BEGIN:VCALENDAR
VERSION:2.0
PRODID:-//mona.jetzt - ECPv6.15.20//NONSGML v1.0//EN
CALSCALE:GREGORIAN
METHOD:PUBLISH
X-ORIGINAL-URL:https://mona.jetzt
X-WR-CALDESC:Veranstaltungen für mona.jetzt
REFRESH-INTERVAL;VALUE=DURATION:PT1H
X-Robots-Tag:noindex
X-PUBLISHED-TTL:PT1H
BEGIN:VTIMEZONE
TZID:Europe/Berlin
BEGIN:DAYLIGHT
TZOFFSETFROM:+0100
TZOFFSETTO:+0200
TZNAME:CEST
DTSTART:20250330T010000
END:DAYLIGHT
BEGIN:STANDARD
TZOFFSETFROM:+0200
TZOFFSETTO:+0100
TZNAME:CET
DTSTART:20251026T010000
END:STANDARD
BEGIN:DAYLIGHT
TZOFFSETFROM:+0100
TZOFFSETTO:+0200
TZNAME:CEST
DTSTART:20260329T010000
END:DAYLIGHT
BEGIN:STANDARD
TZOFFSETFROM:+0200
TZOFFSETTO:+0100
TZNAME:CET
DTSTART:20261025T010000
END:STANDARD
BEGIN:DAYLIGHT
TZOFFSETFROM:+0100
TZOFFSETTO:+0200
TZNAME:CEST
DTSTART:20270328T010000
END:DAYLIGHT
BEGIN:STANDARD
TZOFFSETFROM:+0200
TZOFFSETTO:+0100
TZNAME:CET
DTSTART:20271031T010000
END:STANDARD
END:VTIMEZONE
BEGIN:VEVENT
DTSTART;TZID=Europe/Berlin:20260404T080000
DTEND;TZID=Europe/Berlin:20260404T150000
DTSTAMP:20260423T214306
CREATED:20260320T124348Z
LAST-MODIFIED:20260320T124440Z
UID:2718-1775289600-1775314800@mona.jetzt
SUMMARY:Bad Vöslau Oster-Wochenmarkt 4.4.2026
DESCRIPTION:Wir präsentieren MONA am Oster-Wochenmarkt! \nHerzliche Einladung vorbeizuschauen und MONAs kennen zu lernen. \nWir können gerne anschließend noch plaudern und / oder den zukünftigen Standort des Hauses im Kammgarnareal besuchen \nWir freuen uns!
URL:https://mona.jetzt/event/bad-voeslau-oster-wochenmarkt-4-4-2026/
LOCATION:Bad Vöslau Rathaus\, Schloßplatz 1\, Bad Vöslau\, 2540\, Austria
CATEGORIES:Offene Treffen
END:VEVENT
END:VCALENDAR