BEGIN:VCALENDAR
VERSION:2.0
PRODID:-//mona.jetzt - ECPv6.15.20//NONSGML v1.0//EN
CALSCALE:GREGORIAN
METHOD:PUBLISH
X-WR-CALNAME:mona.jetzt
X-ORIGINAL-URL:https://mona.jetzt
X-WR-CALDESC:Veranstaltungen für mona.jetzt
REFRESH-INTERVAL;VALUE=DURATION:PT1H
X-Robots-Tag:noindex
X-PUBLISHED-TTL:PT1H
BEGIN:VTIMEZONE
TZID:Europe/Berlin
BEGIN:DAYLIGHT
TZOFFSETFROM:+0100
TZOFFSETTO:+0200
TZNAME:CEST
DTSTART:20250330T010000
END:DAYLIGHT
BEGIN:STANDARD
TZOFFSETFROM:+0200
TZOFFSETTO:+0100
TZNAME:CET
DTSTART:20251026T010000
END:STANDARD
BEGIN:DAYLIGHT
TZOFFSETFROM:+0100
TZOFFSETTO:+0200
TZNAME:CEST
DTSTART:20260329T010000
END:DAYLIGHT
BEGIN:STANDARD
TZOFFSETFROM:+0200
TZOFFSETTO:+0100
TZNAME:CET
DTSTART:20261025T010000
END:STANDARD
BEGIN:DAYLIGHT
TZOFFSETFROM:+0100
TZOFFSETTO:+0200
TZNAME:CEST
DTSTART:20270328T010000
END:DAYLIGHT
BEGIN:STANDARD
TZOFFSETFROM:+0200
TZOFFSETTO:+0100
TZNAME:CET
DTSTART:20271031T010000
END:STANDARD
END:VTIMEZONE
BEGIN:VEVENT
DTSTART;TZID=Europe/Berlin:20260415T183000
DTEND;TZID=Europe/Berlin:20260415T213000
DTSTAMP:20260423T215641
CREATED:20260314T123636Z
LAST-MODIFIED:20260314T124905Z
UID:2684-1776277800-1776288600@mona.jetzt
SUMMARY:Infoabend 15.04.2026
DESCRIPTION:MONA ist unterwegs! \nWir haben eine kleine Präsentation vorbereitet über die Grundideen der Gruppengründung\, eine kurze Vorstellung der Gründungsmitglieder\, den Status des Projektes sowie die finanziellen und sonstigen Rahmenbedingungen. \nWir freuen uns auf Dich! \nAnmeldungen bitte an:\nemail: info@mona.jetzt\nphone: +43 664 4041421
URL:https://mona.jetzt/event/infoabend-15-04-2026/
LOCATION:ONLINE – Bitte melde Dich per Email an und wir senden Dir den Zoom-Link.
CATEGORIES:Infoveranstaltung
END:VEVENT
END:VCALENDAR