BEGIN:VCALENDAR
VERSION:2.0
PRODID:-//mona.jetzt - ECPv6.15.20//NONSGML v1.0//EN
CALSCALE:GREGORIAN
METHOD:PUBLISH
X-ORIGINAL-URL:https://mona.jetzt
X-WR-CALDESC:Veranstaltungen für mona.jetzt
REFRESH-INTERVAL;VALUE=DURATION:PT1H
X-Robots-Tag:noindex
X-PUBLISHED-TTL:PT1H
BEGIN:VTIMEZONE
TZID:Europe/Berlin
BEGIN:DAYLIGHT
TZOFFSETFROM:+0100
TZOFFSETTO:+0200
TZNAME:CEST
DTSTART:20250330T010000
END:DAYLIGHT
BEGIN:STANDARD
TZOFFSETFROM:+0200
TZOFFSETTO:+0100
TZNAME:CET
DTSTART:20251026T010000
END:STANDARD
BEGIN:DAYLIGHT
TZOFFSETFROM:+0100
TZOFFSETTO:+0200
TZNAME:CEST
DTSTART:20260329T010000
END:DAYLIGHT
BEGIN:STANDARD
TZOFFSETFROM:+0200
TZOFFSETTO:+0100
TZNAME:CET
DTSTART:20261025T010000
END:STANDARD
BEGIN:DAYLIGHT
TZOFFSETFROM:+0100
TZOFFSETTO:+0200
TZNAME:CEST
DTSTART:20270328T010000
END:DAYLIGHT
BEGIN:STANDARD
TZOFFSETFROM:+0200
TZOFFSETTO:+0100
TZNAME:CET
DTSTART:20271031T010000
END:STANDARD
END:VTIMEZONE
BEGIN:VEVENT
DTSTART;TZID=Europe/Berlin:20260515T183000
DTEND;TZID=Europe/Berlin:20260515T213000
DTSTAMP:20260425T124808
CREATED:20260314T123844Z
LAST-MODIFIED:20260314T124837Z
UID:2688-1778869800-1778880600@mona.jetzt
SUMMARY:Infoabend 15.05.2026
DESCRIPTION:MONA ist unterwegs! \nWir haben eine kleine Präsentation vorbereitet über die Grundideen der Gruppengründung\, eine kurze Vorstellung der Gründungsmitglieder\, den Status des Projektes sowie die finanziellen und sonstigen Rahmenbedingungen. \nWir freuen uns auf Dich! \nAnmeldungen bitte an:\nemail: info@mona.jetzt\nphone: +43 664 4041421
URL:https://mona.jetzt/event/infoabend-15-05-2026/
LOCATION:ONLINE – Bitte melde Dich per Email an und wir senden Dir den Zoom-Link.
CATEGORIES:Infoveranstaltung
END:VEVENT
BEGIN:VEVENT
DTSTART;TZID=Europe/Berlin:20260517T140000
DTEND;TZID=Europe/Berlin:20260517T173000
DTSTAMP:20260425T124808
CREATED:20260212T075005Z
LAST-MODIFIED:20260215T144800Z
UID:2651-1779026400-1779039000@mona.jetzt
SUMMARY:MONA Spaziergang Bad Vöslau 17.5.2026
DESCRIPTION:Wir treffen uns am Bahnhof\, besuchen den zukünftigen Bauplatz\, erkunden die Umgebung (Schulen\, Falkstrasse\, etc) und spazieren dann zum Schloßpark. \nVon dort geht es am Rathaus vorbei Richtung Therme: im Saunastüberl haben wir für die Gruppe reserviert. Bei guten Speisen und Getränken können die Pläne studiert werden und alle offenen Fragen beantwortet werden. \nWir freuen uns\, wenn Du bei einem dieser Termine spontan mit uns Kontakt aufnimmst\, um uns persönlich kennen zu lernen. Bitte beachte\, dass dieses persönliche Kennenlernen den Infoabend – wo Du Details zum Projekt erfährst – nicht ersetzt.\nBitte sag uns unter info@mona.jetzt kurz Bescheid\, dass du kommen möchtest\, damit wir dafür sorgen können\, dass für alle Platz ist.
URL:https://mona.jetzt/event/mona-spaziergang-bad-voeslau-3-5-2026/
LOCATION:Treffpunkt Bad Vöslau Bahnhof\, Castelligasse 2\, Bad Vöslau\, 2540
CATEGORIES:Offene Treffen
END:VEVENT
BEGIN:VEVENT
DTSTART;TZID=Europe/Berlin:20260527T183000
DTEND;TZID=Europe/Berlin:20260527T210000
DTSTAMP:20260425T124808
CREATED:20260405T170630Z
LAST-MODIFIED:20260405T170630Z
UID:2751-1779906600-1779915600@mona.jetzt
SUMMARY:Live Infoabend Bad Vöslau 27.5.2026
DESCRIPTION:MONA live in Bad Vöslau!!\nWir freuen uns auf einen spannenden Live MONA-Infoabend mit Euch am 27.5.2026 im Hob i Raum im Herzen der Kammgarnfabrik von Bad Vöslau! \nWo genau im Areal der Bad-Vöslauer Stadtentwicklung entsteht das MONA Wohnprojekt? Was hält MONA im Kern zusammen und lässt es stetig weiterwachsen und gedeihen? Welche Entwicklungsetappen hat es bisher gegeben und wann wird mit der Baustelle und dem Bau der MONA hofWIRtschaft begonnen? Was an den Baumaterialien und der Energie- und Wärmetechnik ist nachhaltig? Wie kann man MONA-Mitglied werden und was kosten Beitritt\, Eigenmittel und Wohnungsmiete? \nWir freuen uns darauf\, diese und andere spannende Fragen in lockerer und guter Stimmung mit Euch zu diskutieren. Einfach kommen. Wir freuen uns auf Euch!
URL:https://mona.jetzt/event/live-infoabend-bad-voeslau-27-5-2026/
LOCATION:HOB i RAUM\, Hanuschgasse 1/28A\, Bad Vöslau\, 2540
CATEGORIES:Infoveranstaltung
END:VEVENT
BEGIN:VEVENT
DTSTART;TZID=Europe/Berlin:20260529T183000
DTEND;TZID=Europe/Berlin:20260529T213000
DTSTAMP:20260425T124808
CREATED:20260314T124017Z
LAST-MODIFIED:20260314T124825Z
UID:2690-1780079400-1780090200@mona.jetzt
SUMMARY:Infoabend 29.05.2026
DESCRIPTION:MONA ist unterwegs! \nWir haben eine kleine Präsentation vorbereitet über die Grundideen der Gruppengründung\, eine kurze Vorstellung der Gründungsmitglieder\, den Status des Projektes sowie die finanziellen und sonstigen Rahmenbedingungen. \nWir freuen uns auf Dich! \nAnmeldungen bitte an:\nemail: info@mona.jetzt\nphone: +43 664 4041421
URL:https://mona.jetzt/event/infoabend-29-05-2026/
LOCATION:ONLINE – Bitte melde Dich per Email an und wir senden Dir den Zoom-Link.
CATEGORIES:Infoveranstaltung
END:VEVENT
END:VCALENDAR