BEGIN:VCALENDAR
VERSION:2.0
PRODID:-//mona.jetzt - ECPv6.15.20//NONSGML v1.0//EN
CALSCALE:GREGORIAN
METHOD:PUBLISH
X-WR-CALNAME:mona.jetzt
X-ORIGINAL-URL:https://mona.jetzt
X-WR-CALDESC:Veranstaltungen für mona.jetzt
REFRESH-INTERVAL;VALUE=DURATION:PT1H
X-Robots-Tag:noindex
X-PUBLISHED-TTL:PT1H
BEGIN:VTIMEZONE
TZID:Europe/Berlin
BEGIN:DAYLIGHT
TZOFFSETFROM:+0100
TZOFFSETTO:+0200
TZNAME:CEST
DTSTART:20250330T010000
END:DAYLIGHT
BEGIN:STANDARD
TZOFFSETFROM:+0200
TZOFFSETTO:+0100
TZNAME:CET
DTSTART:20251026T010000
END:STANDARD
BEGIN:DAYLIGHT
TZOFFSETFROM:+0100
TZOFFSETTO:+0200
TZNAME:CEST
DTSTART:20260329T010000
END:DAYLIGHT
BEGIN:STANDARD
TZOFFSETFROM:+0200
TZOFFSETTO:+0100
TZNAME:CET
DTSTART:20261025T010000
END:STANDARD
BEGIN:DAYLIGHT
TZOFFSETFROM:+0100
TZOFFSETTO:+0200
TZNAME:CEST
DTSTART:20270328T010000
END:DAYLIGHT
BEGIN:STANDARD
TZOFFSETFROM:+0200
TZOFFSETTO:+0100
TZNAME:CET
DTSTART:20271031T010000
END:STANDARD
END:VTIMEZONE
BEGIN:VEVENT
DTSTART;TZID=Europe/Berlin:20260608T183000
DTEND;TZID=Europe/Berlin:20260608T213000
DTSTAMP:20260424T182758
CREATED:20260314T124151Z
LAST-MODIFIED:20260314T124813Z
UID:2692-1780943400-1780954200@mona.jetzt
SUMMARY:Infoabend 08.06.2026
DESCRIPTION:MONA ist unterwegs! \nWir haben eine kleine Präsentation vorbereitet über die Grundideen der Gruppengründung\, eine kurze Vorstellung der Gründungsmitglieder\, den Status des Projektes sowie die finanziellen und sonstigen Rahmenbedingungen. \nWir freuen uns auf Dich! \nAnmeldungen bitte an:\nemail: info@mona.jetzt\nphone: +43 664 4041421
URL:https://mona.jetzt/event/infoabend-08-06-2026/
LOCATION:ONLINE – Bitte melde Dich per Email an und wir senden Dir den Zoom-Link.
CATEGORIES:Infoveranstaltung
END:VEVENT
BEGIN:VEVENT
DTSTART;TZID=Europe/Berlin:20260614T140000
DTEND;TZID=Europe/Berlin:20260614T173000
DTSTAMP:20260424T182758
CREATED:20260212T075059Z
LAST-MODIFIED:20260212T075256Z
UID:2653-1781445600-1781458200@mona.jetzt
SUMMARY:MONA Spaziergang Bad Vöslau 14.6.2026
DESCRIPTION:Wir treffen uns am Bahnhof\, besuchen den zukünftigen Bauplatz\, erkunden die Umgebung (Schulen\, Falkstrasse\, etc) und spazieren dann zum Schloßpark. \nVon dort geht es am Rathaus vorbei Richtung Therme: im Saunastüberl haben wir für die Gruppe reserviert. Bei guten Speisen und Getränken können die Pläne studiert werden und alle offenen Fragen beantwortet werden. \nWir freuen uns\, wenn Du bei einem dieser Termine spontan mit uns Kontakt aufnimmst\, um uns persönlich kennen zu lernen. Bitte beachte\, dass dieses persönliche Kennenlernen den Infoabend – wo Du Details zum Projekt erfährst – nicht ersetzt.\nBitte sag uns unter info@mona.jetzt kurz Bescheid\, dass du kommen möchtest\, damit wir dafür sorgen können\, dass für alle Platz ist.
URL:https://mona.jetzt/event/mona-spaziergang-bad-voeslau-14-6-2026/
LOCATION:Treffpunkt Bad Vöslau Bahnhof\, Castelligasse 2\, Bad Vöslau\, 2540
CATEGORIES:Offene Treffen
END:VEVENT
BEGIN:VEVENT
DTSTART;TZID=Europe/Berlin:20260622T183000
DTEND;TZID=Europe/Berlin:20260622T213000
DTSTAMP:20260424T182758
CREATED:20260314T124209Z
LAST-MODIFIED:20260314T124800Z
UID:2694-1782153000-1782163800@mona.jetzt
SUMMARY:Infoabend 22.06.2026
DESCRIPTION:MONA ist unterwegs! \nWir haben eine kleine Präsentation vorbereitet über die Grundideen der Gruppengründung\, eine kurze Vorstellung der Gründungsmitglieder\, den Status des Projektes sowie die finanziellen und sonstigen Rahmenbedingungen. \nWir freuen uns auf Dich! \nAnmeldungen bitte an:\nemail: info@mona.jetzt\nphone: +43 664 4041421
URL:https://mona.jetzt/event/infoabend-2206-2026/
LOCATION:ONLINE – Bitte melde Dich per Email an und wir senden Dir den Zoom-Link.
CATEGORIES:Infoveranstaltung
END:VEVENT
END:VCALENDAR